BEGIN:VCALENDAR
VERSION:2.0
PRODID:-//OWHS86 Reunion//the1986reunion.com//EN
CALSCALE:GREGORIAN
METHOD:PUBLISH
BEGIN:VEVENT
UID:owhs86-reunion-friday-2026@the1986reunion.com
DTSTAMP:20260425T000000Z
DTSTART:20260814T210000Z
DTEND:20260815T020000Z
SUMMARY:OWHS '86 · 40th Class Reunion (THE Main Event)
DESCRIPTION:Lakeshore Park\, Four Seasons Building. Semi-casual. Includes catered meal\, drinks\, music\, and rentals. $40/self · $75/pair. Pay via Venmo @Joe-Schmelmer (conf# 1922) or by mail to Robin Elmer\, 1412 Ontario St\, Oshkosh WI 54901. After 9 PM — head downtown! More info: https://the1986reunion.com
LOCATION:Lakeshore Park · Four Seasons Building\, 1875 Punhoqua St\, Oshkosh WI 54902
URL:https://the1986reunion.com/#friday
END:VEVENT
END:VCALENDAR
